BEGIN:VCALENDAR
VERSION:2.0
PRODID:-//Le Jardin de la Reine - ECPv6.15.20//NONSGML v1.0//EN
CALSCALE:GREGORIAN
METHOD:PUBLISH
X-ORIGINAL-URL:https://jardindelareine.fr
X-WR-CALDESC:Évènements pour Le Jardin de la Reine
REFRESH-INTERVAL;VALUE=DURATION:PT1H
X-Robots-Tag:noindex
X-PUBLISHED-TTL:PT1H
BEGIN:VTIMEZONE
TZID:Europe/Paris
BEGIN:DAYLIGHT
TZOFFSETFROM:+0100
TZOFFSETTO:+0200
TZNAME:CEST
DTSTART:20250330T010000
END:DAYLIGHT
BEGIN:STANDARD
TZOFFSETFROM:+0200
TZOFFSETTO:+0100
TZNAME:CET
DTSTART:20251026T010000
END:STANDARD
BEGIN:DAYLIGHT
TZOFFSETFROM:+0100
TZOFFSETTO:+0200
TZNAME:CEST
DTSTART:20260329T010000
END:DAYLIGHT
BEGIN:STANDARD
TZOFFSETFROM:+0200
TZOFFSETTO:+0100
TZNAME:CET
DTSTART:20261025T010000
END:STANDARD
BEGIN:DAYLIGHT
TZOFFSETFROM:+0100
TZOFFSETTO:+0200
TZNAME:CEST
DTSTART:20270328T010000
END:DAYLIGHT
BEGIN:STANDARD
TZOFFSETFROM:+0200
TZOFFSETTO:+0100
TZNAME:CET
DTSTART:20271031T010000
END:STANDARD
END:VTIMEZONE
BEGIN:VEVENT
DTSTART;TZID=Europe/Paris:20260716T093000
DTEND;TZID=Europe/Paris:20260716T103000
DTSTAMP:20260425T184942
CREATED:20260302T180406Z
LAST-MODIFIED:20260302T180725Z
UID:2157-1784194200-1784197800@jardindelareine.fr
SUMMARY:Festival Radio France- côté Jardins
DESCRIPTION:Philia Trio \, \nAvec Luka Faulisi\, violon\, Théo Ould\, accordéon\, et Lisa Strauss\, violoncelle\n\nCes trois jeunes musiciens\, lauréats de plusieurs prix\, redéfinissent les contours de la musique classique par leur singularité et leur synergie. Ils naviguent avec aisance entre les époques\, du baroque jusqu’aux expressions contemporaines. Leur complicité scénique tisse un lien dynamique entre les différents courants musicaux et insuffle un esprit de créativité audacieuse à une nouvelle génération d’artistes.\n\nLes membres du Philia Trio représenteront France Musique au concert Nouvelle Scène de Radio France aux côtés d’artistes de pop ou de variété. L’occasion de rencontrer ces jeunes musiciens qui utilisent leur virtuosité pour faire la musique qu’ils aiment\, en toute décontraction.
URL:https://jardindelareine.fr/evenement/festival-radio-france-cote-jardins/
ATTACH;FMTTYPE=image/png:https://jardindelareine.fr/wp-content/uploads/2026/03/trio2.png
END:VEVENT
END:VCALENDAR