BEGIN:VCALENDAR
VERSION:2.0
PRODID:-//Le Jardin de la Reine - ECPv6.15.20//NONSGML v1.0//EN
CALSCALE:GREGORIAN
METHOD:PUBLISH
X-ORIGINAL-URL:https://jardindelareine.fr
X-WR-CALDESC:Évènements pour Le Jardin de la Reine
REFRESH-INTERVAL;VALUE=DURATION:PT1H
X-Robots-Tag:noindex
X-PUBLISHED-TTL:PT1H
BEGIN:VTIMEZONE
TZID:Europe/Paris
BEGIN:DAYLIGHT
TZOFFSETFROM:+0100
TZOFFSETTO:+0200
TZNAME:CEST
DTSTART:20250330T010000
END:DAYLIGHT
BEGIN:STANDARD
TZOFFSETFROM:+0200
TZOFFSETTO:+0100
TZNAME:CET
DTSTART:20251026T010000
END:STANDARD
BEGIN:DAYLIGHT
TZOFFSETFROM:+0100
TZOFFSETTO:+0200
TZNAME:CEST
DTSTART:20260329T010000
END:DAYLIGHT
BEGIN:STANDARD
TZOFFSETFROM:+0200
TZOFFSETTO:+0100
TZNAME:CET
DTSTART:20261025T010000
END:STANDARD
BEGIN:DAYLIGHT
TZOFFSETFROM:+0100
TZOFFSETTO:+0200
TZNAME:CEST
DTSTART:20270328T010000
END:DAYLIGHT
BEGIN:STANDARD
TZOFFSETFROM:+0200
TZOFFSETTO:+0100
TZNAME:CET
DTSTART:20271031T010000
END:STANDARD
END:VTIMEZONE
BEGIN:VEVENT
DTSTART;TZID=Europe/Paris:20260606T080000
DTEND;TZID=Europe/Paris:20260606T180000
DTSTAMP:20260425T172857
CREATED:20260302T180957Z
LAST-MODIFIED:20260302T181026Z
UID:2178-1780732800-1780768800@jardindelareine.fr
SUMMARY:Fête de la nature
DESCRIPTION:Nombreux ateliers sont proposés pour les petits et les grands par les bénévoles du jardin. Nous vous attendons nombreux
URL:https://jardindelareine.fr/evenement/fete-de-la-nature/
END:VEVENT
BEGIN:VEVENT
DTSTART;TZID=Europe/Paris:20260606T100000
DTEND;TZID=Europe/Paris:20260607T180000
DTSTAMP:20260425T172857
CREATED:20260302T175342Z
LAST-MODIFIED:20260302T175342Z
UID:2152-1780740000-1780855200@jardindelareine.fr
SUMMARY:Rendez-vous des Jardins
DESCRIPTION:
URL:https://jardindelareine.fr/evenement/rendez-vous-des-jardins/
END:VEVENT
BEGIN:VEVENT
DTSTART;TZID=Europe/Paris:20260606T183000
DTEND;TZID=Europe/Paris:20260606T193000
DTSTAMP:20260425T172857
CREATED:20260303T193624Z
LAST-MODIFIED:20260413T123553Z
UID:2182-1780770600-1780774200@jardindelareine.fr
SUMMARY:Concert de Fréd et Phil \, un duo musical: chansons des Suds
DESCRIPTION:Frédérique et Philippe nous proposent une balade à travers les suds : évocations chantées de leurs histoires\, leurs voyages ou leurs rêves. Comme une balade au jardin de la Reine nous plonge dans l’histoire des Suds autour de la méditerranée et ailleurs.
URL:https://jardindelareine.fr/evenement/fredphil-chansons-des-suds/
ATTACH;FMTTYPE=image/jpeg:https://jardindelareine.fr/wp-content/uploads/2026/03/Phil-et-FRed-3-1-scaled.jpg
END:VEVENT
BEGIN:VEVENT
DTSTART;TZID=Europe/Paris:20260614T143000
DTEND;TZID=Europe/Paris:20260614T160000
DTSTAMP:20260425T172857
CREATED:20260410T061534Z
LAST-MODIFIED:20260413T122931Z
UID:2193-1781447400-1781452800@jardindelareine.fr
SUMMARY:Chorale : La ruche
DESCRIPTION:Cette toute nouvelle chorale propose des chansons françaises et internationales : Philippe Katerine\, Ben Mazué\, Rihanna\, Bee Gees et bien d’autres …
URL:https://jardindelareine.fr/evenement/chorale-la-ruche/
ATTACH;FMTTYPE=image/jpeg:https://jardindelareine.fr/wp-content/uploads/2026/04/WhatsApp-Image-2026-04-10-at-17.18.10.jpeg
END:VEVENT
BEGIN:VEVENT
DTSTART;TZID=Europe/Paris:20260614T183000
DTEND;TZID=Europe/Paris:20260614T200000
DTSTAMP:20260425T172857
CREATED:20250709T085331Z
LAST-MODIFIED:20260421T001257Z
UID:2089-1781461800-1781467200@jardindelareine.fr
SUMMARY:Concert de l'Ensemble Instrumental Universitaire de Montpellier 
DESCRIPTION:Programme sous la direction d’Andrea Fallico \nRossini : Cenerentola \nMozart: symphonie Concertante \nSolistes J Benet\, R Bonnaure\, T Leclair\, G.S Kermoal \nGrieg Suite Peer Gynt \n  \n 
URL:https://jardindelareine.fr/evenement/concert-de-lensemble-instrumental-universitaire-de-montpellier/
LOCATION:Jardin de la Reine\, 2 rue Jardin de La Reine\, Montpellier\, 34000\, France
CATEGORIES:Animation culturelle
ATTACH;FMTTYPE=image/jpeg:https://jardindelareine.fr/wp-content/uploads/2025/07/affiche_26.jpg
END:VEVENT
BEGIN:VEVENT
DTSTART;TZID=Europe/Paris:20260628T183000
DTEND;TZID=Europe/Paris:20260628T200000
DTSTAMP:20260425T172857
CREATED:20260228T233750Z
LAST-MODIFIED:20260410T060317Z
UID:2168-1782671400-1782676800@jardindelareine.fr
SUMMARY:Concert poétique Bison Ravi ou les multiples vies de Boris Vian par Catie Canta
DESCRIPTION:Catie Canta chanteuse et poétesse sera accompagnée au piano par Rossil Matsimba et Marcel Camill en voix off \nBoris Vian\, c’est le swing et le verbe. \nLe jazz a occupé toute sa vie aussi bien littéraire que musicale : ses chansons sont caustiques\, tendres\, engagées et féministes malgré les apparences\, puisqu’il a écrit une version au féminin pour un grand nombre d’entre elles\, que nous ne nous priverons pas de vous interpréter.
URL:https://jardindelareine.fr/evenement/concert-poetique-bison-ravi-ou-les-multiples-vies-de-boris-vian-par-catie-canta/
LOCATION:Jardin de la Reine\, 2 rue Jardin de La Reine\, Montpellier\, 34000\, France
ATTACH;FMTTYPE=image/png:https://jardindelareine.fr/wp-content/uploads/2026/03/photo.png
END:VEVENT
END:VCALENDAR