BEGIN:VCALENDAR
VERSION:2.0
PRODID:-//Le Jardin de la Reine - ECPv6.15.20//NONSGML v1.0//EN
CALSCALE:GREGORIAN
METHOD:PUBLISH
X-ORIGINAL-URL:https://jardindelareine.fr
X-WR-CALDESC:Évènements pour Le Jardin de la Reine
REFRESH-INTERVAL;VALUE=DURATION:PT1H
X-Robots-Tag:noindex
X-PUBLISHED-TTL:PT1H
BEGIN:VTIMEZONE
TZID:Europe/Paris
BEGIN:DAYLIGHT
TZOFFSETFROM:+0100
TZOFFSETTO:+0200
TZNAME:CEST
DTSTART:20250330T010000
END:DAYLIGHT
BEGIN:STANDARD
TZOFFSETFROM:+0200
TZOFFSETTO:+0100
TZNAME:CET
DTSTART:20251026T010000
END:STANDARD
BEGIN:DAYLIGHT
TZOFFSETFROM:+0100
TZOFFSETTO:+0200
TZNAME:CEST
DTSTART:20260329T010000
END:DAYLIGHT
BEGIN:STANDARD
TZOFFSETFROM:+0200
TZOFFSETTO:+0100
TZNAME:CET
DTSTART:20261025T010000
END:STANDARD
BEGIN:DAYLIGHT
TZOFFSETFROM:+0100
TZOFFSETTO:+0200
TZNAME:CEST
DTSTART:20270328T010000
END:DAYLIGHT
BEGIN:STANDARD
TZOFFSETFROM:+0200
TZOFFSETTO:+0100
TZNAME:CET
DTSTART:20271031T010000
END:STANDARD
END:VTIMEZONE
BEGIN:VEVENT
DTSTART;TZID=Europe/Paris:20260117T110000
DTEND;TZID=Europe/Paris:20260117T130000
DTSTAMP:20260425T184942
CREATED:20260110T120014Z
LAST-MODIFIED:20260110T120014Z
UID:2149-1768647600-1768654800@jardindelareine.fr
SUMMARY:Galette des Rois
DESCRIPTION:L’association « Sauvons le Jardin de la Reine »\, vous souhaite une belle année 2026 et vous invite à partager un moment de convivialité autour d’un verre et de la traditionnelle galette des Rois. \n 
URL:https://jardindelareine.fr/evenement/galette-des-rois-2/
ATTACH;FMTTYPE=image/jpeg:https://jardindelareine.fr/wp-content/uploads/2026/01/GALETTE-26.jpg
END:VEVENT
END:VCALENDAR