BEGIN:VCALENDAR
VERSION:2.0
PRODID:-//Le Jardin de la Reine - ECPv6.15.20//NONSGML v1.0//EN
CALSCALE:GREGORIAN
METHOD:PUBLISH
X-WR-CALNAME:Le Jardin de la Reine
X-ORIGINAL-URL:https://jardindelareine.fr
X-WR-CALDESC:Évènements pour Le Jardin de la Reine
REFRESH-INTERVAL;VALUE=DURATION:PT1H
X-Robots-Tag:noindex
X-PUBLISHED-TTL:PT1H
BEGIN:VTIMEZONE
TZID:Europe/Paris
BEGIN:DAYLIGHT
TZOFFSETFROM:+0100
TZOFFSETTO:+0200
TZNAME:CEST
DTSTART:20230326T010000
END:DAYLIGHT
BEGIN:STANDARD
TZOFFSETFROM:+0200
TZOFFSETTO:+0100
TZNAME:CET
DTSTART:20231029T010000
END:STANDARD
BEGIN:DAYLIGHT
TZOFFSETFROM:+0100
TZOFFSETTO:+0200
TZNAME:CEST
DTSTART:20240331T010000
END:DAYLIGHT
BEGIN:STANDARD
TZOFFSETFROM:+0200
TZOFFSETTO:+0100
TZNAME:CET
DTSTART:20241027T010000
END:STANDARD
BEGIN:DAYLIGHT
TZOFFSETFROM:+0100
TZOFFSETTO:+0200
TZNAME:CEST
DTSTART:20250330T010000
END:DAYLIGHT
BEGIN:STANDARD
TZOFFSETFROM:+0200
TZOFFSETTO:+0100
TZNAME:CET
DTSTART:20251026T010000
END:STANDARD
BEGIN:DAYLIGHT
TZOFFSETFROM:+0100
TZOFFSETTO:+0200
TZNAME:CEST
DTSTART:20260329T010000
END:DAYLIGHT
BEGIN:STANDARD
TZOFFSETFROM:+0200
TZOFFSETTO:+0100
TZNAME:CET
DTSTART:20261025T010000
END:STANDARD
BEGIN:DAYLIGHT
TZOFFSETFROM:+0100
TZOFFSETTO:+0200
TZNAME:CEST
DTSTART:20270328T010000
END:DAYLIGHT
BEGIN:STANDARD
TZOFFSETFROM:+0200
TZOFFSETTO:+0100
TZNAME:CET
DTSTART:20271031T010000
END:STANDARD
END:VTIMEZONE
BEGIN:VEVENT
DTSTART;TZID=Europe/Paris:20260416T183000
DTEND;TZID=Europe/Paris:20260416T193000
DTSTAMP:20260423T123521
CREATED:20260410T061343Z
LAST-MODIFIED:20260410T061343Z
UID:2190-1776364200-1776367800@jardindelareine.fr
SUMMARY:Théâtre: Théodore ou le silence des hommes
DESCRIPTION: création CIA – par Frédéric Michelet \nSeul en scène\, sensible et poétique:Lors d’un vide-grenier\, Paul décide de se séparer de ses jouets d’enfance. Il replonge dans ses souvenirs et traverse les moments marquants de son enfance.
URL:https://jardindelareine.fr/evenement/theatre-theodore-ou-le-silence-des-hommes/
ATTACH;FMTTYPE=image/jpeg:https://jardindelareine.fr/wp-content/uploads/2026/04/Affiche_cia.jpg
END:VEVENT
BEGIN:VEVENT
DTSTART;TZID=Europe/Paris:20260117T110000
DTEND;TZID=Europe/Paris:20260117T130000
DTSTAMP:20260423T123521
CREATED:20260110T120014Z
LAST-MODIFIED:20260110T120014Z
UID:2149-1768647600-1768654800@jardindelareine.fr
SUMMARY:Galette des Rois
DESCRIPTION:L’association « Sauvons le Jardin de la Reine »\, vous souhaite une belle année 2026 et vous invite à partager un moment de convivialité autour d’un verre et de la traditionnelle galette des Rois. \n 
URL:https://jardindelareine.fr/evenement/galette-des-rois-2/
ATTACH;FMTTYPE=image/jpeg:https://jardindelareine.fr/wp-content/uploads/2026/01/GALETTE-26.jpg
END:VEVENT
BEGIN:VEVENT
DTSTART;TZID=Europe/Paris:20251004T170000
DTEND;TZID=Europe/Paris:20251004T170000
DTSTAMP:20260423T123521
CREATED:20250905T171849Z
LAST-MODIFIED:20250909T111344Z
UID:2099-1759597200-1759597200@jardindelareine.fr
SUMMARY:Danse dans le Jardin par Julie Dubois
DESCRIPTION:« Depuis plusieurs années\, je suis spécialiste dans une technique de danse qui est celle d’Isadora Duncan\, une danseuse du début du XXème siècle\, pionnière de la danse moderne . Elle a énormément travaillé avec la respiration et s’est inspirée des mouvement à l’œuvre dans la nature pour créer. C’est une danse qui se prête aux espaces ouverts\, naturels et aux ambiances intimistes. «
URL:https://jardindelareine.fr/evenement/danse-dans-le-jardin-par-julie-dubois/
LOCATION:Jardin de la Reine\, 2 rue Jardin de La Reine\, Montpellier\, 34000\, France
ATTACH;FMTTYPE=image/jpeg:https://jardindelareine.fr/wp-content/uploads/2025/09/4ac7e86c-8a91-45c3-bebf-cf1a7421806d1.jpg
END:VEVENT
BEGIN:VEVENT
DTSTART;TZID=Europe/Paris:20250928T180000
DTEND;TZID=Europe/Paris:20250928T190000
DTSTAMP:20260423T123521
CREATED:20250409T110805Z
LAST-MODIFIED:20250409T110805Z
UID:2026-1759082400-1759086000@jardindelareine.fr
SUMMARY:En Concert au jardin\, le Duo Mezrab
DESCRIPTION:Deux amis de longue date qui réunissent leur long parcours dans la musique turque\, mêlant airs populaires et classiques dans une sobriété joyeuse. \n\nVlad au Oud\, troubadour au long parcours\, passionnée d’orient et d’ailleurs\,\nMalsoud (saz\, voir\, tambur) s’est nourri en Turquie du répertoire des bardes Ashik\, véritable tradition « rurbaine' » allant du profane au mystique
URL:https://jardindelareine.fr/evenement/en-concert-au-jardin-le-duo-mezrab/
ATTACH;FMTTYPE=image/jpeg:https://jardindelareine.fr/wp-content/uploads/2025/04/AFF-MEZRAB-2.jpg
END:VEVENT
BEGIN:VEVENT
DTSTART;TZID=Europe/Paris:20250920T153000
DTEND;TZID=Europe/Paris:20250920T163000
DTSTAMP:20260423T123521
CREATED:20250709T085755Z
LAST-MODIFIED:20250905T171413Z
UID:2092-1758382200-1758385800@jardindelareine.fr
SUMMARY:Spectacle musical et poétique pour jeune public en hommage à Max Rouquette
DESCRIPTION:L’année 2025 marque les 20 ans de la disparition du poète occitan Max Rouquette (1908-2005). Pour célébrer son œuvre et sa mémoire\, un spectacle musical et poétique pour jeune public est proposé par Jean-Michel Lhubac et Marie-José Fages.
URL:https://jardindelareine.fr/evenement/spectacle-musical-et-poetique-pour-jeune-public-en-hommage-a-max-rouquette/
ATTACH;FMTTYPE=image/png:https://jardindelareine.fr/wp-content/uploads/2025/07/maxrouquette.png
END:VEVENT
BEGIN:VEVENT
DTSTART;TZID=Europe/Paris:20250920T100000
DTEND;TZID=Europe/Paris:20250921T170000
DTSTAMP:20260423T123521
CREATED:20250409T130712Z
LAST-MODIFIED:20250409T130712Z
UID:2032-1758362400-1758474000@jardindelareine.fr
SUMMARY:Journées Européennes du patrimoine 2025  sur la thématique «  Patrimoine architectural »
DESCRIPTION:En 2025\, les Journées européennes du patrimoine seront consacrées au patrimoine architectural\, qui façonne nos paysages et notre identité culturelle. Selon la définition de l’Académie française\, l’architecture est « l’art de construire\, de disposer ou d’orner des édifices ». Le thème de cette année mettra ainsi l’accent sur les réalisations artistiques et techniques de l’architecture qui\, au-delà de leurs fonctions et usages qui évoluent au cours des temps\, constituent souvent un point de repère important tant du point de vue de l’histoire locale\, nationale et européenne que de la mémoire collective. \nCréé en 1180\, le jardin de la Reine été le jardin privatif de Marie de Montpellier\, seigneur de Montpellier et reine d’Aragon.  Au fil des siècles\, il a évolué  pour devenir une partie du jardin des plantes (1593)\, ensuite jardin privatif du recteur d’académie (1815) \, et en 2014\, un jardin de la ville de Montpellier géré par une association\, amoureuse de ce patrimoine.. Cela l’a façonné et il est devenu un élément important de l’histoire locale. \n 
URL:https://jardindelareine.fr/evenement/journees-europeennes-du-patrimoine-2025-sur-la-thematique-patrimoine-architectural/
ATTACH;FMTTYPE=image/png:https://jardindelareine.fr/wp-content/uploads/2025/04/aff-nationale.png
END:VEVENT
BEGIN:VEVENT
DTSTART;TZID=Europe/Paris:20250620T180000
DTEND;TZID=Europe/Paris:20250620T200000
DTSTAMP:20260423T123521
CREATED:20250604T204252Z
LAST-MODIFIED:20250604T204252Z
UID:2085-1750442400-1750449600@jardindelareine.fr
SUMMARY:Duo Jazz Gouirand et Pansanel
DESCRIPTION:Doudou Gouirand (saxo/chant) et Gérard Pansanel (guitare)\, deux » pointures » du jazz montpelliérain\, qui ont joué avec les plus grands\, nous font l’honneur de venir se produire dans un exceptionnel concert au Jardin de la Reine
URL:https://jardindelareine.fr/evenement/duo-jazz-gouirand-et-pansanel/
ATTACH;FMTTYPE=image/jpeg:https://jardindelareine.fr/wp-content/uploads/2025/06/Aff-Doudou-scaled.jpg
END:VEVENT
BEGIN:VEVENT
DTSTART;TZID=Europe/Paris:20250615T180000
DTEND;TZID=Europe/Paris:20250615T190000
DTSTAMP:20260423T123521
CREATED:20250409T105648Z
LAST-MODIFIED:20250409T105711Z
UID:2022-1750010400-1750014000@jardindelareine.fr
SUMMARY:Concert de Sim & Nevé  : Rap/ Guitare
DESCRIPTION:Sim & Nevé forment un duo où le rap de Sim rencontre la guitare joyeuse de Nevé pour un live immersif et organique. \nDans ce live « Rap guitare » d’une heure\, les notes de jazz\, de funk ou de trap accompagnent des rimes précises et engagées. Il s’agit d’un véritable voyage musical\, nourri d’énergies variées; passages poétiques a cappella\, découpages syllabiques virevoltants\, solo de guitare envoûtantes et beas hip-hop énergiques. \nParticipation :au chapeau
URL:https://jardindelareine.fr/evenement/concert-de-sim-neve-rap-guitare/
ATTACH;FMTTYPE=image/jpeg:https://jardindelareine.fr/wp-content/uploads/2025/04/AFF-SIM-NEVE-2.jpg
END:VEVENT
BEGIN:VEVENT
DTSTART;TZID=Europe/Paris:20250608T173000
DTEND;TZID=Europe/Paris:20250608T183000
DTSTAMP:20260423T123521
CREATED:20250409T104922Z
LAST-MODIFIED:20250409T125020Z
UID:2020-1749403800-1749407400@jardindelareine.fr
SUMMARY:Le monde est  mon jardin\, spectacle de contes d'Alain Vidal
DESCRIPTION:Parler de la beauté d’une simple salade\, d’une carotte ou d’un navet.\nParler de la force de vie d’une toute petite graine\,\nParler de nous\, les êtres humains et de notre rapport souvent ambivalent à la nature\, de notre lien avec les arbres\, avec les plantes.\nMême si nous n’avons pas tous la main verte\, même si nous sommes de plus en plus citadins\, il ne faut pas remonter à très loin pour trouver dans nos familles\ndes paysans\, des agriculteurs\, des jardiniers…\nSi nous les évoquons\, ils montrent leurs visages bourrus\, leurs mains calleuses\, leurs ongles un peu noirs et leurs pieds bien plantés en terre. \n 
URL:https://jardindelareine.fr/evenement/le-monde-est-mon-jardin-spectacle-de-contes-dalain-vidal/
ATTACH;FMTTYPE=image/jpeg:https://jardindelareine.fr/wp-content/uploads/2025/04/AFF-CONTES-.jpg
END:VEVENT
BEGIN:VEVENT
DTSTART;TZID=Europe/Paris:20250607T000000
DTEND;TZID=Europe/Paris:20250608T235959
DTSTAMP:20260423T123521
CREATED:20250409T104808Z
LAST-MODIFIED:20250409T104808Z
UID:2016-1749254400-1749427199@jardindelareine.fr
SUMMARY:Le rendez-vous des jardins : Thème 2025 "Jardins de pierres et pierres de jardins"
DESCRIPTION:Les Rendez-vous aux jardins ont pour objectif de mettre en valeur la richesse et la variété des parcs et jardins\, historiques et contemporains\, sur tout le territoire. Ils sensibilisent également les visiteurs aux multiples actions  pour conserver\, restaurer\, créer des jardins et transmettre des savoirs et des savoir-faire. \n 
URL:https://jardindelareine.fr/evenement/le-rendez-vous-des-jardins-theme-2025-jardins-de-pierres-et-pierres-de-jardins/
CATEGORIES:Animation culturelle,Animation pédagogique
ATTACH;FMTTYPE=image/jpeg:https://jardindelareine.fr/wp-content/uploads/2025/04/AFF-RVaux-jardins.jpg
END:VEVENT
BEGIN:VEVENT
DTSTART;TZID=Europe/Paris:20250605T190000
DTEND;TZID=Europe/Paris:20250605T200000
DTSTAMP:20260423T123521
CREATED:20250522T034506Z
LAST-MODIFIED:20250522T034506Z
UID:2078-1749150000-1749153600@jardindelareine.fr
SUMMARY:lecture de Simon Alloneau au Jardin de la Reine
DESCRIPTION:Organisé par La boutique d’écriture\, venez à la rencontre-lecture de Simon Alloneau\, poète autant que sportif\, il écrit\, publie et performe ses textes drôles et doucement cruels. \nIl a publié Un jour on a jamais rien vu\, collection « Polder » en 2012\, La vie est trop vraie\, au Pédalo Ivre en 2014\, et Les Fils avec Laura Vazquez\, aux éditions Bêta en 2016. \nSes textes ont été également publiés dans différentes revues de poésie. Il a donné de nombreuses lectures et performances\, notamment à la Maison de la Poésie de Paris et au Centre Pompidou. \n« Je crois qu’en poésie comme en sport\, je recherche le risque. Je pars du réel\, du quotidien\, pour aller ailleurs. »
URL:https://jardindelareine.fr/evenement/lecture-de-simon-alloneau-au-jardin-de-la-reine/
ATTACH;FMTTYPE=image/png:https://jardindelareine.fr/wp-content/uploads/2025/05/Lecture-Rencontre-Simon-Alloneau-.png
END:VEVENT
BEGIN:VEVENT
DTSTART;TZID=Europe/Paris:20250528T120000
DTEND;TZID=Europe/Paris:20250601T230000
DTSTAMP:20260423T123521
CREATED:20250409T102505Z
LAST-MODIFIED:20250519T075205Z
UID:2014-1748433600-1748818800@jardindelareine.fr
SUMMARY:Africa Matters 3
DESCRIPTION:Cela fait 3 ans\, qu’Afrique Matters enchante le jardin par une programmation toujours renouvelée sur la culture africaine. \nVendredi 30 mai \n• Vernissage de l’exposition avec : « Maudite soit la guerre » d’Antonio Yuste Rodriguez (peintures et encres)\, installation « Les racines de la paix » par Isabelle Rabarot\, Kenneth Vihotogbe (peintures et dessins de presse)\, Amandine Favier et Marina Bousvarou (installation de masques) . À 18h.\n• Traiteur avec cuisine du Sénégal par Habibou Dramé. À 19h.\n• Concert de soul\, folk avec Nicholsson777 (Mali). À 20h.\n• Cinéma au jardin avec projection de films par Julien Gourbeix de l’association DodesKaden\, en partenariat avec l’Institut français.
URL:https://jardindelareine.fr/evenement/africa-matters-3-2/
LOCATION:Jardin de la Reine\, 2 rue Jardin de La Reine\, Montpellier\, 34000\, France
ATTACH;FMTTYPE=image/jpeg:https://jardindelareine.fr/wp-content/uploads/2025/04/affiche_africamatters_2025.jpg
END:VEVENT
BEGIN:VEVENT
DTSTART;TZID=Europe/Paris:20250525T180000
DTEND;TZID=Europe/Paris:20250525T193000
DTSTAMP:20260423T123521
CREATED:20250409T085248Z
LAST-MODIFIED:20250409T100448Z
UID:1984-1748196000-1748201400@jardindelareine.fr
SUMMARY:Concert au Jardin par Les Quarts de Ton
DESCRIPTION:Les Quarts de ton est un groupe vocal montpelliérain composé de 8 chanteuses et chanteurs. \nIls chantent a capella de la chanson française ( Nougaro\, Vian\, Nino Ferrer\,…) et de la pop ( Queen\, Beach Boys\,..) cherchant chaque fois l’originalité des arrangements\, le peps des rythmes et la qualité des textes
URL:https://jardindelareine.fr/evenement/concert-au-jardin-par-les-quarts-de-ton/
CATEGORIES:Animation culturelle
ATTACH;FMTTYPE=image/jpeg:https://jardindelareine.fr/wp-content/uploads/2025/04/Aff-Quarts-de-Ton-25.jpg
END:VEVENT
BEGIN:VEVENT
DTSTART;TZID=Europe/Paris:20250523T180000
DTEND;TZID=Europe/Paris:20250523T190000
DTSTAMP:20260423T123521
CREATED:20250409T102206Z
LAST-MODIFIED:20250409T102206Z
UID:2011-1748023200-1748026800@jardindelareine.fr
SUMMARY:"Des jardins et des Arbres" \, lecture musicale par les amis du grain des mots
DESCRIPTION:Lecture musicale autour des plantes par l’association « Les amis  de Grains des Mots ». Ils seront accompagnés par Albertin Ventadour à la viole de gambe\, instrument qui fait faire de la musique aux plantes.
URL:https://jardindelareine.fr/evenement/des-jardins-et-des-arbres-lecture-musicale-par-les-amis-du-grain-des-mots/
ATTACH;FMTTYPE=image/jpeg:https://jardindelareine.fr/wp-content/uploads/2025/04/AFF-GRAIN-DES-MOTS.jpg
END:VEVENT
BEGIN:VEVENT
DTSTART;TZID=Europe/Paris:20250517T180000
DTEND;TZID=Europe/Paris:20250517T193000
DTSTAMP:20260423T123521
CREATED:20250409T085423Z
LAST-MODIFIED:20250409T085423Z
UID:1979-1747504800-1747510200@jardindelareine.fr
SUMMARY:Natureza par la Compagnie Ribozome
DESCRIPTION:Le monde de *NATURÉZA*\, est un espace en dehors du temps un duo de douceurs slamées\, scattées\, chantées. Le chant est jubilatoire\, la poésie est gourmande. Là où la samba racontait la vie quotidienne\, la bossa écrivait des textes sur l’amour la plage les filles.  Naturéza c’est aussi la fusion de la samba rythmique et des harmonies du jazz. \nDans les textes de Natacha Belem\, ce sont les arbres\, l’eau\, et les grillons qui nous parlent d’ici et du maintenant. Une invitation à se connecter à la nature\, à sa propre nature. Ici simplicité et animisme riment avec conscience qui s’éveille\, où émotions et réflexions philosophiques s’entrelacent. Naturéza se nourrit du vivant en hommage à cette planète unique. \nParticipation** : Au Chapeau
URL:https://jardindelareine.fr/evenement/natureza-par-la-compagnie-ribozome/
CATEGORIES:Animation culturelle
ATTACH;FMTTYPE=image/jpeg:https://jardindelareine.fr/wp-content/uploads/2025/04/AFF-NATUREZA.jpg
END:VEVENT
BEGIN:VEVENT
DTSTART;TZID=Europe/Paris:20250517T140000
DTEND;TZID=Europe/Paris:20250517T200000
DTSTAMP:20260423T123521
CREATED:20250309T140935Z
LAST-MODIFIED:20250506T090619Z
UID:1887-1747490400-1747512000@jardindelareine.fr
SUMMARY:La fête du jardin
DESCRIPTION:Plusieurs animations sont proposées pour petits et grands: \n14h30: Gérard Leplat et Jacques Taïb de la SHHNH (société horticulture et d’histoire naturelle de l’Hérault) propose  une animation entomologique. Cela doit être réalisé en début d’après midi quand les insectes sont les plus nombreux . \nAu gré de vos envies \, \n\néchanges de plantes ou de boutures\ninfusions et tisanes froides proposées par Cat\n atelier dessin ou arts plastiques proposé par Muriel\njeux sur la reconnaissance de plantes\njeux sur la recherche des nichoirs\ntable avec des jeux de sociétés sur les jardins\n\nSans oublier à 18h \, le concert Natureza\, où les plantes sont toujours à l’honneur
URL:https://jardindelareine.fr/evenement/fete-du-jardin-2025/
ATTACH;FMTTYPE=image/jpeg:https://jardindelareine.fr/wp-content/uploads/2025/03/affiche_17mai2025.jpg
END:VEVENT
BEGIN:VEVENT
DTSTART;TZID=Europe/Paris:20250511T080000
DTEND;TZID=Europe/Paris:20250511T130000
DTSTAMP:20260423T123521
CREATED:20250409T100952Z
LAST-MODIFIED:20250409T100952Z
UID:2006-1746950400-1746968400@jardindelareine.fr
SUMMARY:La Balade Gastronomique Aux Grés de Montpellier 2025 \, une étape dans le Jardin de la Reine
DESCRIPTION:Envie de faire le plein de découvertes gustatives tout en découvrant le patrimoine montpelliérain ? La Balade Gastronomique Aux Grés de Montpellier\, est l’incontournable rendez-vous oenotouristique du printemps.\nLa visite historique et patrimoniale du jardin sera réalisé par les bénévoles de l’association Jardin de la Reine .
URL:https://jardindelareine.fr/evenement/la-balade-gastronomique-aux-gres-de-montpellier-2025-une-etape-dans-le-jardin-de-la-reine/
ATTACH;FMTTYPE=image/jpeg:https://jardindelareine.fr/wp-content/uploads/2025/04/kiosque-logo-233151.jpg
END:VEVENT
BEGIN:VEVENT
DTSTART;TZID=Europe/Paris:20240925T000000
DTEND;TZID=Europe/Paris:20240925T000000
DTSTAMP:20260423T123521
CREATED:20250309T105807Z
LAST-MODIFIED:20250309T111558Z
UID:1867-1727222400-1727222400@jardindelareine.fr
SUMMARY:film : La vie sauvage au Pic Saint Loup (date non précisé)
DESCRIPTION:Nicolas Gaidet\, chercheur au Cirad\, a réalisé un film sur la vie Sauvage au Pic Saint Loup -Il animera la projection.bande annonce : https://www.youtube.com/watch?v=_t9k4ZbTE-c
URL:https://jardindelareine.fr/evenement/film-la-vie-sauvage-au-pic-saint-loup-date-non-precise/
ATTACH;FMTTYPE=image/jpeg:https://jardindelareine.fr/wp-content/uploads/2024/03/viesavies.jpg
END:VEVENT
BEGIN:VEVENT
DTSTART;TZID=Europe/Paris:20240922T000000
DTEND;TZID=Europe/Paris:20240922T000000
DTSTAMP:20260423T123521
CREATED:20250309T105824Z
LAST-MODIFIED:20250309T105824Z
UID:1873-1726963200-1726963200@jardindelareine.fr
SUMMARY:Des Jardins et des Arbres à 17h30
DESCRIPTION:Les ami.e.s du Grain des Mots\, vous proposent pour les Journées Européennes du Patrimoine\, une lecture animée et musicale « Des Jardins et des arbres »
URL:https://jardindelareine.fr/evenement/des-jardins-et-des-arbres-a-17h30/
END:VEVENT
BEGIN:VEVENT
DTSTART;TZID=Europe/Paris:20240921T000000
DTEND;TZID=Europe/Paris:20240922T000000
DTSTAMP:20260423T123521
CREATED:20250309T105822Z
LAST-MODIFIED:20250309T105822Z
UID:1872-1726876800-1726963200@jardindelareine.fr
SUMMARY:Journées du patrimoine 2024 de 10h à 12h et de 14h à 17h
DESCRIPTION:Visites guidées historiques du jardin de la Reine et son lien étroit avec le jardin des plantes de Montpellier et de Padoue\, les deux plus anciens jardins botaniques du Monde;
URL:https://jardindelareine.fr/evenement/journees-du-patrimoine-2024-de-10h-a-12h-et-de-14h-a-17h/
END:VEVENT
BEGIN:VEVENT
DTSTART;TZID=Europe/Paris:20240913T000000
DTEND;TZID=Europe/Paris:20240913T000000
DTSTAMP:20260423T123521
CREATED:20250309T105821Z
LAST-MODIFIED:20250309T105821Z
UID:1871-1726185600-1726185600@jardindelareine.fr
SUMMARY:Rentrée poétique et musicale à partir de 18h30
DESCRIPTION:Un programme en deux temps : « J’habite le possible »\, performance poétique et théâtralisée » par Emilie Heriteau suivi d’un concert de Oud par Vladimir Oury\,
URL:https://jardindelareine.fr/evenement/rentree-poetique-et-musicale-a-partir-de-18h30/
END:VEVENT
BEGIN:VEVENT
DTSTART;TZID=Europe/Paris:20240623T000000
DTEND;TZID=Europe/Paris:20240623T000000
DTSTAMP:20260423T123521
CREATED:20250309T105805Z
LAST-MODIFIED:20250309T105805Z
UID:1866-1719100800-1719100800@jardindelareine.fr
SUMMARY:Concert de Catie Canta- Hommage à Léo Malet (17h)
DESCRIPTION:Catie et Colette Sauvanet ont mis en musique des textes de Léo Malet\, Montpellérain\, Jazzman\, poète\, écrivain connu avec les romans de Nestor Burma. Accompagnement : Rossil Matsimba\, artiste congolais au piano et Bernard Marques pour la voix off.
URL:https://jardindelareine.fr/evenement/concert-de-catie-canta-hommage-a-leo-malet-17h/
END:VEVENT
BEGIN:VEVENT
DTSTART;TZID=Europe/Paris:20240606T000000
DTEND;TZID=Europe/Paris:20240609T000000
DTSTAMP:20260423T123521
CREATED:20250309T105804Z
LAST-MODIFIED:20250309T105804Z
UID:1865-1717632000-1717891200@jardindelareine.fr
SUMMARY:Africa Matters 3
DESCRIPTION:Des surprises nous attendent de la part du Collectif – programme accessible sur le site africamatters.fr
URL:https://jardindelareine.fr/evenement/africa-matters-3/
END:VEVENT
BEGIN:VEVENT
DTSTART;TZID=Europe/Paris:20240602T000000
DTEND;TZID=Europe/Paris:20240602T000000
DTSTAMP:20260423T123521
CREATED:20250309T105819Z
LAST-MODIFIED:20250309T105819Z
UID:1870-1717286400-1717286400@jardindelareine.fr
SUMMARY:Concert Primavera à 17h
DESCRIPTION:
URL:https://jardindelareine.fr/evenement/concert-primavera-a-17h/
END:VEVENT
BEGIN:VEVENT
DTSTART;TZID=Europe/Paris:20240601T000000
DTEND;TZID=Europe/Paris:20240602T000000
DTSTAMP:20260423T123521
CREATED:20250309T105754Z
LAST-MODIFIED:20250309T105754Z
UID:1863-1717200000-1717286400@jardindelareine.fr
SUMMARY:Les rendez-vous des jardins - Voyage sensoriel
DESCRIPTION:
URL:https://jardindelareine.fr/evenement/les-rendez-vous-des-jardins-voyage-sensoriel/
END:VEVENT
BEGIN:VEVENT
DTSTART;TZID=Europe/Paris:20240601T000000
DTEND;TZID=Europe/Paris:20240601T000000
DTSTAMP:20260423T123521
CREATED:20250309T105802Z
LAST-MODIFIED:20250309T105802Z
UID:1864-1717200000-1717200000@jardindelareine.fr
SUMMARY:Rendez-vous aux Jardins - Atelier écriture\, lecture et dessin autour des 5 sens- 14h à 16h
DESCRIPTION:
URL:https://jardindelareine.fr/evenement/rendez-vous-aux-jardins-atelier-ecriture-lecture-et-dessin-autour-des-5-sens-14h-a-16h/
END:VEVENT
BEGIN:VEVENT
DTSTART;TZID=Europe/Paris:20240526T000000
DTEND;TZID=Europe/Paris:20240526T000000
DTSTAMP:20260423T123521
CREATED:20250309T105817Z
LAST-MODIFIED:20250309T105817Z
UID:1869-1716681600-1716681600@jardindelareine.fr
SUMMARY:Concert d'Ana Sanz à 17h
DESCRIPTION:
URL:https://jardindelareine.fr/evenement/concert-dana-sanz-a-17h/
END:VEVENT
BEGIN:VEVENT
DTSTART;TZID=Europe/Paris:20240517T000000
DTEND;TZID=Europe/Paris:20240518T000000
DTSTAMP:20260423T123521
CREATED:20250309T105809Z
LAST-MODIFIED:20250309T105809Z
UID:1868-1715904000-1715990400@jardindelareine.fr
SUMMARY:Comédie OFF du livre de la jeunesse
DESCRIPTION:
URL:https://jardindelareine.fr/evenement/comedie-off-du-livre-de-la-jeunesse/
END:VEVENT
BEGIN:VEVENT
DTSTART;TZID=Europe/Paris:20240422T000000
DTEND;TZID=Europe/Paris:20240422T000000
DTSTAMP:20260423T123521
CREATED:20250309T105752Z
LAST-MODIFIED:20250309T105752Z
UID:1862-1713744000-1713744000@jardindelareine.fr
SUMMARY:Film à 16h30: Les paysans sentinelles (amphithéâtre École Diderot)
DESCRIPTION:à 16h30 en l’amphithéâtre de l’école Diderot- Plan Narcissa-Carré du Roi
URL:https://jardindelareine.fr/evenement/film-a-16h30-les-paysans-sentinelles-amphitheatre-ecole-diderot/
END:VEVENT
BEGIN:VEVENT
DTSTART;TZID=Europe/Paris:20240113T000000
DTEND;TZID=Europe/Paris:20240113T000000
DTSTAMP:20260423T123521
CREATED:20250309T105750Z
LAST-MODIFIED:20250309T105750Z
UID:1861-1705104000-1705104000@jardindelareine.fr
SUMMARY:Galette des Rois le 13 janvier 2024
DESCRIPTION:
URL:https://jardindelareine.fr/evenement/galette-des-rois-le-13-janvier-2024/
END:VEVENT
END:VCALENDAR