BEGIN:VCALENDAR
VERSION:2.0
PRODID:-//Le Jardin de la Reine - ECPv6.15.20//NONSGML v1.0//EN
CALSCALE:GREGORIAN
METHOD:PUBLISH
X-ORIGINAL-URL:https://jardindelareine.fr
X-WR-CALDESC:Évènements pour Le Jardin de la Reine
REFRESH-INTERVAL;VALUE=DURATION:PT1H
X-Robots-Tag:noindex
X-PUBLISHED-TTL:PT1H
BEGIN:VTIMEZONE
TZID:Europe/Paris
BEGIN:DAYLIGHT
TZOFFSETFROM:+0100
TZOFFSETTO:+0200
TZNAME:CEST
DTSTART:20240331T010000
END:DAYLIGHT
BEGIN:STANDARD
TZOFFSETFROM:+0200
TZOFFSETTO:+0100
TZNAME:CET
DTSTART:20241027T010000
END:STANDARD
BEGIN:DAYLIGHT
TZOFFSETFROM:+0100
TZOFFSETTO:+0200
TZNAME:CEST
DTSTART:20250330T010000
END:DAYLIGHT
BEGIN:STANDARD
TZOFFSETFROM:+0200
TZOFFSETTO:+0100
TZNAME:CET
DTSTART:20251026T010000
END:STANDARD
BEGIN:DAYLIGHT
TZOFFSETFROM:+0100
TZOFFSETTO:+0200
TZNAME:CEST
DTSTART:20260329T010000
END:DAYLIGHT
BEGIN:STANDARD
TZOFFSETFROM:+0200
TZOFFSETTO:+0100
TZNAME:CET
DTSTART:20261025T010000
END:STANDARD
END:VTIMEZONE
BEGIN:VEVENT
DTSTART;TZID=Europe/Paris:20250920T100000
DTEND;TZID=Europe/Paris:20250921T170000
DTSTAMP:20260426T021754
CREATED:20250409T130712Z
LAST-MODIFIED:20250409T130712Z
UID:2032-1758362400-1758474000@jardindelareine.fr
SUMMARY:Journées Européennes du patrimoine 2025  sur la thématique «  Patrimoine architectural »
DESCRIPTION:En 2025\, les Journées européennes du patrimoine seront consacrées au patrimoine architectural\, qui façonne nos paysages et notre identité culturelle. Selon la définition de l’Académie française\, l’architecture est « l’art de construire\, de disposer ou d’orner des édifices ». Le thème de cette année mettra ainsi l’accent sur les réalisations artistiques et techniques de l’architecture qui\, au-delà de leurs fonctions et usages qui évoluent au cours des temps\, constituent souvent un point de repère important tant du point de vue de l’histoire locale\, nationale et européenne que de la mémoire collective. \nCréé en 1180\, le jardin de la Reine été le jardin privatif de Marie de Montpellier\, seigneur de Montpellier et reine d’Aragon.  Au fil des siècles\, il a évolué  pour devenir une partie du jardin des plantes (1593)\, ensuite jardin privatif du recteur d’académie (1815) \, et en 2014\, un jardin de la ville de Montpellier géré par une association\, amoureuse de ce patrimoine.. Cela l’a façonné et il est devenu un élément important de l’histoire locale. \n 
URL:https://jardindelareine.fr/evenement/journees-europeennes-du-patrimoine-2025-sur-la-thematique-patrimoine-architectural/
ATTACH;FMTTYPE=image/png:https://jardindelareine.fr/wp-content/uploads/2025/04/aff-nationale.png
END:VEVENT
BEGIN:VEVENT
DTSTART;TZID=Europe/Paris:20250920T153000
DTEND;TZID=Europe/Paris:20250920T163000
DTSTAMP:20260426T021754
CREATED:20250709T085755Z
LAST-MODIFIED:20250905T171413Z
UID:2092-1758382200-1758385800@jardindelareine.fr
SUMMARY:Spectacle musical et poétique pour jeune public en hommage à Max Rouquette
DESCRIPTION:L’année 2025 marque les 20 ans de la disparition du poète occitan Max Rouquette (1908-2005). Pour célébrer son œuvre et sa mémoire\, un spectacle musical et poétique pour jeune public est proposé par Jean-Michel Lhubac et Marie-José Fages.
URL:https://jardindelareine.fr/evenement/spectacle-musical-et-poetique-pour-jeune-public-en-hommage-a-max-rouquette/
ATTACH;FMTTYPE=image/png:https://jardindelareine.fr/wp-content/uploads/2025/07/maxrouquette.png
END:VEVENT
END:VCALENDAR