BEGIN:VCALENDAR
VERSION:2.0
PRODID:-//Le Jardin de la Reine - ECPv6.15.20//NONSGML v1.0//EN
CALSCALE:GREGORIAN
METHOD:PUBLISH
X-ORIGINAL-URL:https://jardindelareine.fr
X-WR-CALDESC:Évènements pour Le Jardin de la Reine
REFRESH-INTERVAL;VALUE=DURATION:PT1H
X-Robots-Tag:noindex
X-PUBLISHED-TTL:PT1H
BEGIN:VTIMEZONE
TZID:Europe/Paris
BEGIN:DAYLIGHT
TZOFFSETFROM:+0100
TZOFFSETTO:+0200
TZNAME:CEST
DTSTART:20250330T010000
END:DAYLIGHT
BEGIN:STANDARD
TZOFFSETFROM:+0200
TZOFFSETTO:+0100
TZNAME:CET
DTSTART:20251026T010000
END:STANDARD
BEGIN:DAYLIGHT
TZOFFSETFROM:+0100
TZOFFSETTO:+0200
TZNAME:CEST
DTSTART:20260329T010000
END:DAYLIGHT
BEGIN:STANDARD
TZOFFSETFROM:+0200
TZOFFSETTO:+0100
TZNAME:CET
DTSTART:20261025T010000
END:STANDARD
BEGIN:DAYLIGHT
TZOFFSETFROM:+0100
TZOFFSETTO:+0200
TZNAME:CEST
DTSTART:20270328T010000
END:DAYLIGHT
BEGIN:STANDARD
TZOFFSETFROM:+0200
TZOFFSETTO:+0100
TZNAME:CET
DTSTART:20271031T010000
END:STANDARD
END:VTIMEZONE
BEGIN:VEVENT
DTSTART;TZID=Europe/Paris:20260425T183000
DTEND;TZID=Europe/Paris:20260425T200000
DTSTAMP:20260423T103821
CREATED:20260228T102423Z
LAST-MODIFIED:20260228T102423Z
UID:2162-1777141800-1777147200@jardindelareine.fr
SUMMARY:Concert de Nicholson777
DESCRIPTION:Accompagné de sa guitare\, Nicolas\, nous amène dans son univers aux multiples facettes : Neo-soul\, pop\, reggae\, souk…
URL:https://jardindelareine.fr/evenement/concert-de-nicholson777/
ATTACH;FMTTYPE=image/jpeg:https://jardindelareine.fr/wp-content/uploads/2026/02/AFF-NICO-scaled.jpg
END:VEVENT
END:VCALENDAR